Package: maaslin3 Version: 1.1.2 Command: /Library/Frameworks/R.framework/Resources/bin/R CMD build --keep-empty-dirs --no-resave-data maaslin3 StartedAt: 2025-10-19 16:50:05 -0400 (Sun, 19 Oct 2025) EndedAt: 2025-10-19 16:53:46 -0400 (Sun, 19 Oct 2025) EllapsedTime: 220.5 seconds RetCode: 0 Status: OK PackageFile: maaslin3_1.1.2.tar.gz PackageFileSize: 1.089 MiB