Package: maaslin3 Version: 1.1.2 Maintainer: William Nickols MaintainerEmail: willnickols at g.harvard.edu git_url: https://git.bioconductor.org/packages/maaslin3 git_branch: devel git_last_commit: e7106d5 git_last_commit_date: 2025-10-12 11:00:51 -0400 (Sun, 12 Oct 2025)