Package: maSigPro Version: 1.81.0 Command: /home/biocbuild/R/R/bin/R CMD INSTALL maSigPro StartedAt: 2025-10-16 21:23:25 -0000 (Thu, 16 Oct 2025) EndedAt: 2025-10-16 21:23:31 -0000 (Thu, 16 Oct 2025) EllapsedTime: 5.3 seconds RetCode: 0 Status: OK