Package: maSigPro Version: 1.81.0 Command: /home/biocbuild/bbs-3.22-bioc/R/bin/R CMD INSTALL maSigPro StartedAt: 2025-10-19 15:13:08 -0400 (Sun, 19 Oct 2025) EndedAt: 2025-10-19 15:13:12 -0400 (Sun, 19 Oct 2025) EllapsedTime: 4.0 seconds RetCode: 0 Status: OK