Package: maSigPro Version: 1.81.0 Command: /home/biocbuild/bbs-3.22-bioc/R/bin/R CMD check --install=check:maSigPro.install-out.txt --library=/home/biocbuild/bbs-3.22-bioc/R/site-library --timings maSigPro_1.81.0.tar.gz StartedAt: 2025-10-20 01:31:02 -0400 (Mon, 20 Oct 2025) EndedAt: 2025-10-20 01:33:13 -0400 (Mon, 20 Oct 2025) EllapsedTime: 130.2 seconds RetCode: 0 Status: OK CheckDir: maSigPro.Rcheck Warnings: 0