Package: maSigPro Version: 1.81.0 Command: /Library/Frameworks/R.framework/Resources/bin/R CMD INSTALL maSigPro StartedAt: 2025-10-17 15:06:46 -0400 (Fri, 17 Oct 2025) EndedAt: 2025-10-17 15:06:48 -0400 (Fri, 17 Oct 2025) EllapsedTime: 2.5 seconds RetCode: 0 Status: OK