Package: maSigPro Version: 1.81.0 Command: /Library/Frameworks/R.framework/Resources/bin/R CMD build --keep-empty-dirs --no-resave-data maSigPro StartedAt: 2025-10-19 16:51:33 -0400 (Sun, 19 Oct 2025) EndedAt: 2025-10-19 16:51:37 -0400 (Sun, 19 Oct 2025) EllapsedTime: 4.0 seconds RetCode: 0 Status: OK PackageFile: maSigPro_1.81.0.tar.gz PackageFileSize: 1.511 MiB