Package: maSigPro Version: 1.81.0 Maintainer: Maria Jose Nueda MaintainerEmail: mj.nueda at ua.es git_url: https://git.bioconductor.org/packages/maSigPro git_branch: devel git_last_commit: 6ba818f git_last_commit_date: 2025-04-15 09:37:14 -0400 (Tue, 15 Apr 2025)