Package: maCorrPlot Version: 1.80.0 Command: /Library/Frameworks/R.framework/Resources/bin/R CMD check --install=check:maCorrPlot.install-out.txt --library=/Library/Frameworks/R.framework/Resources/library --no-vignettes --timings maCorrPlot_1.80.0.tar.gz StartedAt: 2025-11-03 22:12:32 -0500 (Mon, 03 Nov 2025) EndedAt: 2025-11-03 22:13:02 -0500 (Mon, 03 Nov 2025) EllapsedTime: 29.9 seconds RetCode: 0 Status: OK CheckDir: maCorrPlot.Rcheck Warnings: 0