Package: maCorrPlot Version: 1.80.0 Command: /Library/Frameworks/R.framework/Resources/bin/R CMD build --keep-empty-dirs --no-resave-data maCorrPlot StartedAt: 2025-11-03 17:35:08 -0500 (Mon, 03 Nov 2025) EndedAt: 2025-11-03 17:35:22 -0500 (Mon, 03 Nov 2025) EllapsedTime: 13.8 seconds RetCode: 0 Status: OK PackageFile: maCorrPlot_1.80.0.tar.gz PackageFileSize: 1.265 MiB