Package: maCorrPlot Version: 1.80.0 Command: rm -rf maCorrPlot.buildbin-libdir && mkdir maCorrPlot.buildbin-libdir && /Users/biocbuild/BBS/utils/build-universal.sh maCorrPlot_1.80.0.tar.gz /Library/Frameworks/R.framework/Resources/bin/R maCorrPlot.buildbin-libdir StartedAt: 2025-11-04 01:47:41 -0500 (Tue, 04 Nov 2025) EndedAt: 2025-11-04 01:47:47 -0500 (Tue, 04 Nov 2025) EllapsedTime: 5.8 seconds RetCode: 0 Status: OK PackageFile: maCorrPlot_1.80.0.tgz PackageFileSize: 1.169 MiB