Package: mCSEA Version: 1.29.0 Command: /home/biocbuild/R/R/bin/R CMD check --install=check:mCSEA.install-out.txt --library=/home/biocbuild/R/R/site-library --no-vignettes --timings mCSEA_1.29.0.tar.gz StartedAt: 2025-09-16 08:38:01 -0000 (Tue, 16 Sep 2025) EndedAt: 2025-09-16 08:44:43 -0000 (Tue, 16 Sep 2025) EllapsedTime: 401.6 seconds RetCode: 0 Status: OK CheckDir: mCSEA.Rcheck Warnings: 0