Package: mCSEA Version: 1.29.0 Command: rm -rf mCSEA.buildbin-libdir && mkdir mCSEA.buildbin-libdir && F:\biocbuild\bbs-3.22-bioc\R\bin\R.exe CMD INSTALL --build --library=mCSEA.buildbin-libdir mCSEA_1.29.0.tar.gz StartedAt: 2025-08-15 10:38:31 -0400 (Fri, 15 Aug 2025) EndedAt: 2025-08-15 10:39:11 -0400 (Fri, 15 Aug 2025) EllapsedTime: 40.4 seconds RetCode: 0 Status: OK PackageFile: mCSEA_1.29.0.zip PackageFileSize: 2.088 MiB