Package: mCSEA Version: 1.29.0 Command: /home/biocbuild/bbs-3.22-bioc/R/bin/R CMD INSTALL mCSEA StartedAt: 2025-10-20 15:58:06 -0400 (Mon, 20 Oct 2025) EndedAt: 2025-10-20 15:58:44 -0400 (Mon, 20 Oct 2025) EllapsedTime: 37.6 seconds RetCode: 0 Status: OK