Package: mCSEA Version: 1.29.0 Command: /home/biocbuild/bbs-3.22-bioc/R/bin/R CMD check --install=check:mCSEA.install-out.txt --library=/home/biocbuild/bbs-3.22-bioc/R/site-library --timings mCSEA_1.29.0.tar.gz StartedAt: 2025-09-17 01:11:39 -0400 (Wed, 17 Sep 2025) EndedAt: 2025-09-17 01:20:00 -0400 (Wed, 17 Sep 2025) EllapsedTime: 501.5 seconds RetCode: 0 Status: OK CheckDir: mCSEA.Rcheck Warnings: 0