Package: mCSEA Version: 1.29.0 Command: /Library/Frameworks/R.framework/Resources/bin/R CMD build --keep-empty-dirs --no-resave-data mCSEA StartedAt: 2025-10-20 16:53:30 -0400 (Mon, 20 Oct 2025) EndedAt: 2025-10-20 16:54:35 -0400 (Mon, 20 Oct 2025) EllapsedTime: 64.8 seconds RetCode: 1 Status: ERROR PackageFile: None PackageFileSize: NA