Package: m6Aboost Version: 1.15.1 Command: /home/biocbuild/R/R/bin/R CMD INSTALL m6Aboost StartedAt: 2025-10-20 21:20:20 -0000 (Mon, 20 Oct 2025) EndedAt: 2025-10-20 21:21:19 -0000 (Mon, 20 Oct 2025) EllapsedTime: 58.6 seconds RetCode: 0 Status: OK