Package: m6Aboost Version: 1.15.1 Command: /home/biocbuild/R/R/bin/R CMD build --keep-empty-dirs --no-resave-data m6Aboost StartedAt: 2025-10-17 02:16:09 -0000 (Fri, 17 Oct 2025) EndedAt: 2025-10-17 02:17:27 -0000 (Fri, 17 Oct 2025) EllapsedTime: 78.0 seconds RetCode: 1 Status: ERROR PackageFile: None PackageFileSize: NA