Package: m6Aboost Version: 1.15.1 Command: /Library/Frameworks/R.framework/Resources/bin/R CMD build --keep-empty-dirs --no-resave-data m6Aboost StartedAt: 2025-10-19 17:52:14 -0400 (Sun, 19 Oct 2025) EndedAt: 2025-10-19 17:54:21 -0400 (Sun, 19 Oct 2025) EllapsedTime: 127.7 seconds RetCode: 0 Status: OK PackageFile: m6Aboost_1.15.1.tar.gz PackageFileSize: 759.5 KiB