Package: m6Aboost Version: 1.15.1 Command: /Library/Frameworks/R.framework/Resources/bin/R CMD INSTALL m6Aboost StartedAt: 2025-10-19 15:30:43 -0400 (Sun, 19 Oct 2025) EndedAt: 2025-10-19 15:31:01 -0400 (Sun, 19 Oct 2025) EllapsedTime: 17.8 seconds RetCode: 0 Status: OK