Package: m6Aboost Version: 1.15.1 Command: /Library/Frameworks/R.framework/Resources/bin/R CMD check --install=check:m6Aboost.install-out.txt --library=/Library/Frameworks/R.framework/Resources/library --no-vignettes --timings m6Aboost_1.15.1.tar.gz StartedAt: 2025-10-19 20:25:38 -0400 (Sun, 19 Oct 2025) EndedAt: 2025-10-19 20:27:43 -0400 (Sun, 19 Oct 2025) EllapsedTime: 124.7 seconds RetCode: 0 Status: OK CheckDir: m6Aboost.Rcheck Warnings: 0