Package: lute Version: 1.5.1 Command: /home/biocbuild/R/R/bin/R CMD INSTALL lute StartedAt: 2025-10-23 21:20:00 -0000 (Thu, 23 Oct 2025) EndedAt: 2025-10-23 21:20:41 -0000 (Thu, 23 Oct 2025) EllapsedTime: 40.8 seconds RetCode: 0 Status: OK