Package: lute Version: 1.5.1 Command: /home/biocbuild/R/R/bin/R CMD build --keep-empty-dirs --no-resave-data lute StartedAt: 2025-10-21 00:50:03 -0000 (Tue, 21 Oct 2025) EndedAt: 2025-10-21 00:51:13 -0000 (Tue, 21 Oct 2025) EllapsedTime: 70.0 seconds RetCode: 0 Status: OK PackageFile: lute_1.5.1.tar.gz PackageFileSize: 2.271 MiB