Package: lute Version: 1.6.0 Command: /home/biocbuild/bbs-3.22-bioc/R/bin/R CMD check --install=check:lute.install-out.txt --library=/home/biocbuild/bbs-3.22-bioc/R/site-library --timings lute_1.6.0.tar.gz StartedAt: 2025-11-05 01:01:38 -0500 (Wed, 05 Nov 2025) EndedAt: 2025-11-05 01:01:43 -0500 (Wed, 05 Nov 2025) EllapsedTime: 5.0 seconds RetCode: 1 Status: ERROR CheckDir: lute.Rcheck Warnings: NA