Package: lpsymphony Version: 1.37.0 Command: /Library/Frameworks/R.framework/Resources/bin/R CMD check --install=check:lpsymphony.install-out.txt --library=/Library/Frameworks/R.framework/Resources/library --no-vignettes --timings lpsymphony_1.37.0.tar.gz StartedAt: 2025-10-27 20:27:03 -0400 (Mon, 27 Oct 2025) EndedAt: 2025-10-27 20:27:19 -0400 (Mon, 27 Oct 2025) EllapsedTime: 15.2 seconds RetCode: 0 Status: WARNINGS CheckDir: lpsymphony.Rcheck Warnings: 1