Package: logicFS Version: 2.30.0 Command: /home/biocbuild/R/R/bin/R CMD check --install=check:logicFS.install-out.txt --library=/home/biocbuild/R/R/site-library --no-vignettes --timings logicFS_2.30.0.tar.gz StartedAt: 2025-11-14 11:03:12 -0000 (Fri, 14 Nov 2025) EndedAt: 2025-11-14 11:04:15 -0000 (Fri, 14 Nov 2025) EllapsedTime: 63.1 seconds RetCode: 0 Status: OK CheckDir: logicFS.Rcheck Warnings: 0