Package: logicFS Version: 2.30.0 Command: /home/biocbuild/bbs-3.22-bioc/R/bin/R CMD build --keep-empty-dirs --no-resave-data --md5 logicFS StartedAt: 2025-11-14 18:27:17 -0500 (Fri, 14 Nov 2025) EndedAt: 2025-11-14 18:27:30 -0500 (Fri, 14 Nov 2025) EllapsedTime: 13.0 seconds RetCode: 0 Status: OK PackageFile: logicFS_2.30.0.tar.gz PackageFileSize: 264.1 KiB