Package: logicFS Version: 2.30.0 Command: /Library/Frameworks/R.framework/Resources/bin/R CMD check --install=check:logicFS.install-out.txt --library=/Library/Frameworks/R.framework/Resources/library --no-vignettes --timings logicFS_2.30.0.tar.gz StartedAt: 2025-11-03 22:10:26 -0500 (Mon, 03 Nov 2025) EndedAt: 2025-11-03 22:11:37 -0500 (Mon, 03 Nov 2025) EllapsedTime: 71.1 seconds RetCode: 0 Status: OK CheckDir: logicFS.Rcheck Warnings: 0