Package: logicFS Version: 2.30.0 Command: /Library/Frameworks/R.framework/Resources/bin/R CMD INSTALL logicFS StartedAt: 2025-11-10 15:03:05 -0500 (Mon, 10 Nov 2025) EndedAt: 2025-11-10 15:03:10 -0500 (Mon, 10 Nov 2025) EllapsedTime: 4.8 seconds RetCode: 0 Status: OK