Package: loci2path Version: 1.29.1 Command: /home/biocbuild/R/R/bin/R CMD build --keep-empty-dirs --no-resave-data loci2path StartedAt: 2025-10-21 00:49:24 -0000 (Tue, 21 Oct 2025) EndedAt: 2025-10-21 00:49:51 -0000 (Tue, 21 Oct 2025) EllapsedTime: 27.0 seconds RetCode: 0 Status: OK PackageFile: loci2path_1.29.1.tar.gz PackageFileSize: 572.1 KiB