Package: loci2path Version: 1.29.1 Command: rm -rf loci2path.buildbin-libdir && mkdir loci2path.buildbin-libdir && F:\biocbuild\bbs-3.22-bioc\R\bin\R.exe CMD INSTALL --build --library=loci2path.buildbin-libdir loci2path_1.29.1.tar.gz StartedAt: 2025-08-15 10:35:52 -0400 (Fri, 15 Aug 2025) EndedAt: 2025-08-15 10:36:36 -0400 (Fri, 15 Aug 2025) EllapsedTime: 43.3 seconds RetCode: 0 Status: OK PackageFile: loci2path_1.29.1.zip PackageFileSize: 731.5 KiB