Package: loci2path Version: 1.30.0 Command: /Library/Frameworks/R.framework/Resources/bin/R CMD check --install=check:loci2path.install-out.txt --library=/Library/Frameworks/R.framework/Resources/library --no-vignettes --timings loci2path_1.30.0.tar.gz StartedAt: 2025-11-03 22:10:20 -0500 (Mon, 03 Nov 2025) EndedAt: 2025-11-03 22:11:58 -0500 (Mon, 03 Nov 2025) EllapsedTime: 97.5 seconds RetCode: 0 Status: OK CheckDir: loci2path.Rcheck Warnings: 0