Package: loci2path Version: 1.30.0 Command: rm -rf loci2path.buildbin-libdir && mkdir loci2path.buildbin-libdir && /Users/biocbuild/BBS/utils/build-universal.sh loci2path_1.30.0.tar.gz /Library/Frameworks/R.framework/Resources/bin/R loci2path.buildbin-libdir StartedAt: 2025-11-01 01:41:11 -0400 (Sat, 01 Nov 2025) EndedAt: 2025-11-01 01:41:29 -0400 (Sat, 01 Nov 2025) EllapsedTime: 18.6 seconds RetCode: 0 Status: OK PackageFile: loci2path_1.30.0.tgz PackageFileSize: 803.5 KiB