Package: loci2path Version: 1.30.0 Command: /Library/Frameworks/R.framework/Resources/bin/R CMD build --keep-empty-dirs --no-resave-data loci2path StartedAt: 2025-11-02 16:51:02 -0500 (Sun, 02 Nov 2025) EndedAt: 2025-11-02 16:51:11 -0500 (Sun, 02 Nov 2025) EllapsedTime: 9.1 seconds RetCode: 0 Status: OK PackageFile: loci2path_1.30.0.tar.gz PackageFileSize: 610.2 KiB