Package: loci2path Version: 1.29.1 Maintainer: Tianlei Xu MaintainerEmail: tianlei.xu at emory.edu git_url: https://git.bioconductor.org/packages/loci2path git_branch: devel git_last_commit: b4769b3 git_last_commit_date: 2025-07-28 14:52:04 -0400 (Mon, 28 Jul 2025)