Package: lipidr Version: 2.23.0 Command: /home/biocbuild/R/R/bin/R CMD build --keep-empty-dirs --no-resave-data lipidr StartedAt: 2025-10-21 00:48:37 -0000 (Tue, 21 Oct 2025) EndedAt: 2025-10-21 00:49:55 -0000 (Tue, 21 Oct 2025) EllapsedTime: 78.0 seconds RetCode: 0 Status: OK PackageFile: lipidr_2.23.0.tar.gz PackageFileSize: 2.434 MiB