Package: lipidr Version: 2.23.0 Command: F:\biocbuild\bbs-3.22-bioc\R\bin\R.exe CMD check --no-multiarch --install=check:lipidr.install-out.txt --library=F:\biocbuild\bbs-3.22-bioc\R\library --no-vignettes --timings lipidr_2.23.0.tar.gz StartedAt: 2025-08-15 04:38:09 -0400 (Fri, 15 Aug 2025) EndedAt: 2025-08-15 04:46:06 -0400 (Fri, 15 Aug 2025) EllapsedTime: 476.5 seconds RetCode: 0 Status: OK CheckDir: lipidr.Rcheck Warnings: 0