Package: lipidr Version: 2.23.0 Command: /Library/Frameworks/R.framework/Resources/bin/R CMD INSTALL lipidr StartedAt: 2025-10-19 15:19:50 -0400 (Sun, 19 Oct 2025) EndedAt: 2025-10-19 15:20:02 -0400 (Sun, 19 Oct 2025) EllapsedTime: 11.6 seconds RetCode: 0 Status: OK