Package: lipidr Version: 2.23.0 Command: /Library/Frameworks/R.framework/Resources/bin/R CMD check --install=check:lipidr.install-out.txt --library=/Library/Frameworks/R.framework/Resources/library --no-vignettes --timings lipidr_2.23.0.tar.gz StartedAt: 2025-10-19 20:23:54 -0400 (Sun, 19 Oct 2025) EndedAt: 2025-10-19 20:25:38 -0400 (Sun, 19 Oct 2025) EllapsedTime: 104.4 seconds RetCode: 0 Status: OK CheckDir: lipidr.Rcheck Warnings: 0