Package: lionessR Version: 1.23.0 Command: /home/biocbuild/R/R/bin/R CMD INSTALL lionessR StartedAt: 2025-10-09 21:11:10 -0000 (Thu, 09 Oct 2025) EndedAt: 2025-10-09 21:11:13 -0000 (Thu, 09 Oct 2025) EllapsedTime: 3.3 seconds RetCode: 0 Status: OK