############################################################################## ############################################################################## ### ### Running command: ### ### F:\biocbuild\bbs-3.22-bioc\R\bin\R.exe CMD INSTALL linkSet ### ############################################################################## ############################################################################## * installing to library 'F:/biocbuild/bbs-3.22-bioc/R/library' * installing *source* package 'linkSet' ... ** this is package 'linkSet' version '0.99.19' ** using staged installation ** R ** data ** inst ** byte-compile and prepare package for lazy loading in method for 'Convert' with signature 'x="GInteractions"': no definition for class "GInteractions" in method for 'baitGInteractions' with signature 'x="GInteractions",geneGr="GRanges",peakGr="GRanges"': no definition for class "GInteractions" ** help *** installing help indices *** copying figures ** building package indices ** installing vignettes ** testing if installed package can be loaded from temporary location ** testing if installed package can be loaded from final location ** testing if installed package keeps a record of temporary installation path * DONE (linkSet)