Package: lineagespot Version: 1.13.0 Command: /home/biocbuild/R/R/bin/R CMD check --install=check:lineagespot.install-out.txt --library=/home/biocbuild/R/R/site-library --no-vignettes --timings lineagespot_1.13.0.tar.gz StartedAt: 2025-10-17 10:33:08 -0000 (Fri, 17 Oct 2025) EndedAt: 2025-10-17 10:40:48 -0000 (Fri, 17 Oct 2025) EllapsedTime: 460.5 seconds RetCode: 0 Status: OK CheckDir: lineagespot.Rcheck Warnings: 0