Package: lineagespot Version: 1.13.0 Command: /home/biocbuild/bbs-3.22-bioc/R/bin/R CMD INSTALL lineagespot StartedAt: 2025-10-23 15:41:57 -0400 (Thu, 23 Oct 2025) EndedAt: 2025-10-23 15:42:47 -0400 (Thu, 23 Oct 2025) EllapsedTime: 49.9 seconds RetCode: 0 Status: OK