Package: lineagespot Version: 1.13.0 Command: /Library/Frameworks/R.framework/Resources/bin/R CMD INSTALL lineagespot StartedAt: 2025-10-17 15:37:33 -0400 (Fri, 17 Oct 2025) EndedAt: 2025-10-17 15:38:24 -0400 (Fri, 17 Oct 2025) EllapsedTime: 51.6 seconds RetCode: 0 Status: OK