Package: lineagespot Version: 1.13.0 Command: /Library/Frameworks/R.framework/Resources/bin/R CMD check --install=check:lineagespot.install-out.txt --library=/Library/Frameworks/R.framework/Resources/library --no-vignettes --timings lineagespot_1.13.0.tar.gz StartedAt: 2025-10-19 23:25:06 -0400 (Sun, 19 Oct 2025) EndedAt: 2025-10-19 23:32:16 -0400 (Sun, 19 Oct 2025) EllapsedTime: 430.1 seconds RetCode: 0 Status: OK CheckDir: lineagespot.Rcheck Warnings: 0