############################################################################## ############################################################################## ### ### Running command: ### ### rm -rf limpa.buildbin-libdir && mkdir limpa.buildbin-libdir && F:\biocbuild\bbs-3.22-bioc\R\bin\R.exe CMD INSTALL --build --library=limpa.buildbin-libdir limpa_1.1.5.tar.gz ### ############################################################################## ############################################################################## * installing *source* package 'limpa' ... ** this is package 'limpa' version '1.1.5' ** using staged installation ** R ** inst ** byte-compile and prepare package for lazy loading ** help *** installing help indices ** building package indices ** installing vignettes ** testing if installed package can be loaded from temporary location ** testing if installed package can be loaded from final location ** testing if installed package keeps a record of temporary installation path * MD5 sums packaged installation of 'limpa' as limpa_1.1.5.zip * DONE (limpa)