Package: limma Version: 3.65.5 Command: /home/biocbuild/R/R/bin/R CMD INSTALL limma StartedAt: 2025-10-16 21:08:38 -0000 (Thu, 16 Oct 2025) EndedAt: 2025-10-16 21:09:01 -0000 (Thu, 16 Oct 2025) EllapsedTime: 23.1 seconds RetCode: 0 Status: OK