Package: limma Version: 3.65.5 Command: /home/biocbuild/R/R/bin/R CMD build --keep-empty-dirs --no-resave-data limma StartedAt: 2025-10-17 02:12:32 -0000 (Fri, 17 Oct 2025) EndedAt: 2025-10-17 02:13:05 -0000 (Fri, 17 Oct 2025) EllapsedTime: 33.0 seconds RetCode: 0 Status: OK PackageFile: limma_3.65.5.tar.gz PackageFileSize: 2.739 MiB