Package: limma Version: 3.65.3 Command: F:\biocbuild\bbs-3.22-bioc\R\bin\R.exe CMD check --no-multiarch --install=check:limma.install-out.txt --library=F:\biocbuild\bbs-3.22-bioc\R\library --no-vignettes --timings limma_3.65.3.tar.gz StartedAt: 2025-08-15 04:36:34 -0400 (Fri, 15 Aug 2025) EndedAt: 2025-08-15 04:38:51 -0400 (Fri, 15 Aug 2025) EllapsedTime: 136.6 seconds RetCode: 0 Status: OK CheckDir: limma.Rcheck Warnings: 0