Package: limma Version: 3.65.3 Command: chmod a+r limma -R && F:\biocbuild\bbs-3.22-bioc\R\bin\R.exe CMD build --keep-empty-dirs --no-resave-data limma StartedAt: 2025-08-14 21:06:48 -0400 (Thu, 14 Aug 2025) EndedAt: 2025-08-14 21:08:15 -0400 (Thu, 14 Aug 2025) EllapsedTime: 87.5 seconds RetCode: 0 Status: OK PackageFile: limma_3.65.3.tar.gz PackageFileSize: 2.718 MiB